BEGIN:VCALENDAR
VERSION:2.0
PRODID:-//jEvents 2.0 for Joomla//EN
CALSCALE:GREGORIAN
METHOD:PUBLISH
BEGIN:VTIMEZONE
TZID:America/New_York
BEGIN:STANDARD
DTSTART:20241213T140000
RDATE:20250309T030000
TZOFFSETFROM:-0400
TZOFFSETTO:-0500
TZNAME:America/New_York EST
END:STANDARD
BEGIN:STANDARD
DTSTART:20251102T010000
RDATE:20260308T030000
TZOFFSETFROM:-0400
TZOFFSETTO:-0500
TZNAME:America/New_York EST
END:STANDARD
BEGIN:STANDARD
DTSTART:20261101T010000
RDATE:20270314T030000
TZOFFSETFROM:-0400
TZOFFSETTO:-0500
TZNAME:America/New_York EST
END:STANDARD
BEGIN:STANDARD
DTSTART:20271107T010000
RDATE:20280312T030000
TZOFFSETFROM:-0400
TZOFFSETTO:-0500
TZNAME:America/New_York EST
END:STANDARD
BEGIN:STANDARD
DTSTART:20281105T010000
RDATE:20290311T030000
TZOFFSETFROM:-0400
TZOFFSETTO:-0500
TZNAME:America/New_York EST
END:STANDARD
BEGIN:STANDARD
DTSTART:20291104T010000
RDATE:20300310T030000
TZOFFSETFROM:-0400
TZOFFSETTO:-0500
TZNAME:America/New_York EST
END:STANDARD
BEGIN:STANDARD
DTSTART:20301103T010000
RDATE:20310309T030000
TZOFFSETFROM:-0400
TZOFFSETTO:-0500
TZNAME:America/New_York EST
END:STANDARD
BEGIN:STANDARD
DTSTART:20311102T010000
RDATE:20320314T030000
TZOFFSETFROM:-0400
TZOFFSETTO:-0500
TZNAME:America/New_York EST
END:STANDARD
BEGIN:DAYLIGHT
DTSTART:20250309T030000
RDATE:20251102T010000
TZOFFSETFROM:-0500
TZOFFSETTO:-0400
TZNAME:America/New_York EDT
END:DAYLIGHT
BEGIN:DAYLIGHT
DTSTART:20260308T030000
RDATE:20261101T010000
TZOFFSETFROM:-0500
TZOFFSETTO:-0400
TZNAME:America/New_York EDT
END:DAYLIGHT
BEGIN:DAYLIGHT
DTSTART:20270314T030000
RDATE:20271107T010000
TZOFFSETFROM:-0500
TZOFFSETTO:-0400
TZNAME:America/New_York EDT
END:DAYLIGHT
BEGIN:DAYLIGHT
DTSTART:20280312T030000
RDATE:20281105T010000
TZOFFSETFROM:-0500
TZOFFSETTO:-0400
TZNAME:America/New_York EDT
END:DAYLIGHT
BEGIN:DAYLIGHT
DTSTART:20290311T030000
RDATE:20291104T010000
TZOFFSETFROM:-0500
TZOFFSETTO:-0400
TZNAME:America/New_York EDT
END:DAYLIGHT
BEGIN:DAYLIGHT
DTSTART:20300310T030000
RDATE:20301103T010000
TZOFFSETFROM:-0500
TZOFFSETTO:-0400
TZNAME:America/New_York EDT
END:DAYLIGHT
BEGIN:DAYLIGHT
DTSTART:20310309T030000
RDATE:20311102T010000
TZOFFSETFROM:-0500
TZOFFSETTO:-0400
TZNAME:America/New_York EDT
END:DAYLIGHT
END:VTIMEZONE
BEGIN:VEVENT
UID:1629d09148d90ac32c153f638d29dae9
CATEGORIES:Concerts
CREATED:20250920T113631
SUMMARY:Concert - Medway High School
DESCRIPTION:Concert:  2:00 - 3:00\nCall Time:  1:30\nFormal Dress (see dress code under
  band members tab)\nChairs will be provided\nDirections to Medway High Scho
 ol (https://www.google.com/maps/place/Medway+High+School/@42.1545364,-71.43
 84356,17z/data=!3m1!4b1!4m6!3m5!1s0x89e47105fc8ccde1:0xe9081dd2ac743cc8!8m2
 !3d42.1545364!4d-71.4384356!16s%2Fm%2F027dwt0?entry=ttu&amp;g_ep=EgoyMDI1MT
 ExNy4wIKXMDSoASAFQAw%3D%3D)\n
X-ALT-DESC;FMTTYPE=text/html:<p>Concert: &nbsp;2:00 - 3:00</p><p>Call Time: &nbsp;1:30</p><p>Formal Dres
 s (see dress code under band members tab)</p><p>Chairs will be provided</p>
 <p><a href="https://www.google.com/maps/place/Medway+High+School/@42.154536
 4,-71.4384356,17z/data=!3m1!4b1!4m6!3m5!1s0x89e47105fc8ccde1:0xe9081dd2ac74
 3cc8!8m2!3d42.1545364!4d-71.4384356!16s%2Fm%2F027dwt0?entry=ttu&amp;g_ep=Eg
 oyMDI1MTExNy4wIKXMDSoASAFQAw%3D%3D" target="_blank" rel="noopener">Directio
 ns to Medway High School</a></p>
DTSTAMP:20260424T162846
DTSTART;TZID=America/New_York:20251214T140000
DTEND;TZID=America/New_York:20251214T150000
SEQUENCE:0
TRANSP:OPAQUE
END:VEVENT
END:VCALENDAR